BEGIN:VCALENDAR
VERSION:2.0
PRODID:-//SVKBB - ECPv6.15.20//NONSGML v1.0//EN
CALSCALE:GREGORIAN
METHOD:PUBLISH
X-ORIGINAL-URL:https://svkbb.eu
X-WR-CALDESC:Udalosti pre SVKBB
REFRESH-INTERVAL;VALUE=DURATION:PT1H
X-Robots-Tag:noindex
X-PUBLISHED-TTL:PT1H
BEGIN:VTIMEZONE
TZID:Europe/Bratislava
BEGIN:DAYLIGHT
TZOFFSETFROM:+0100
TZOFFSETTO:+0200
TZNAME:CEST
DTSTART:20250330T010000
END:DAYLIGHT
BEGIN:STANDARD
TZOFFSETFROM:+0200
TZOFFSETTO:+0100
TZNAME:CET
DTSTART:20251026T010000
END:STANDARD
BEGIN:DAYLIGHT
TZOFFSETFROM:+0100
TZOFFSETTO:+0200
TZNAME:CEST
DTSTART:20260329T010000
END:DAYLIGHT
BEGIN:STANDARD
TZOFFSETFROM:+0200
TZOFFSETTO:+0100
TZNAME:CET
DTSTART:20261025T010000
END:STANDARD
BEGIN:DAYLIGHT
TZOFFSETFROM:+0100
TZOFFSETTO:+0200
TZNAME:CEST
DTSTART:20270328T010000
END:DAYLIGHT
BEGIN:STANDARD
TZOFFSETFROM:+0200
TZOFFSETTO:+0100
TZNAME:CET
DTSTART:20271031T010000
END:STANDARD
END:VTIMEZONE
BEGIN:VEVENT
DTSTART;VALUE=DATE:20260608
DTEND;VALUE=DATE:20260905
DTSTAMP:20260421T141553
CREATED:20260420T105737Z
LAST-MODIFIED:20260420T110210Z
UID:34202-1780876800-1788566399@svkbb.eu
SUMMARY:Pavel Hrúz - výstava zo zbierkového fondu pri príležitosti nedožitých 85. narodenín spisovateľa
DESCRIPTION:Štátna vedecká knižnica v Banskej Bystrici \nLiterárne a hudobné múzeum vás pozýva \nna výstavu zo zbierkového fondu pri príležitosti nedožitých 85. narodenín spisovateľa \nPavla Hrúza. \nPavel Hrúz (*14. 7. 1941 + 15. 8. 2008) \nKde: chodba\, 2. poschodie Štátna vedecká knižnica v Banskej Bystrici\, Lazovná 9 \nKedy: 8. 6. – 4. 9. 2026 \nTešíme sa na vašu návštevu!
URL:https://svkbb.eu/podujatia/pavel-hruz-vystava-zo-zbierkoveho-fondu-pri-prilezitosti-nedozitych-85-narodenin-spisovatela/
LOCATION:II. poschodie
CATEGORIES:LHM,SVKBB,Výstavy
ATTACH;FMTTYPE=image/jpeg:https://svkbb.eu/wp-content/uploads/2026/04/vystava_-Pavel-Hruz-scaled.jpg
END:VEVENT
BEGIN:VEVENT
DTSTART;TZID=Europe/Bratislava:20260609T160000
DTEND;TZID=Europe/Bratislava:20260609T173000
DTSTAMP:20260421T141553
CREATED:20260420T110045Z
LAST-MODIFIED:20260420T110102Z
UID:34205-1781020800-1781026200@svkbb.eu
SUMMARY:Historky Banskej Bystrice očami Pavla HRÚZA
DESCRIPTION:Štátna vedecká knižnica v Banskej Bystrici \n– Literárne a hudobné múzeum vás pozývajú na \nHistorky Banskej Bystrice očami Pavla HRÚZA \nSpomienkové podujatie sa uskutoční pri príležitosti nedožitých 85. narodenín spisovateľa. \nHosť: PeadDr. Jana Borguľová \nKedy: 9. júna 2026 o 16.00 h \nKde: priestory expozície Múzeum – domov múz \nLazovná 9 \nBanská Bystrica
URL:https://svkbb.eu/podujatia/34205/
LOCATION:Domov múz
CATEGORIES:Home,LHM,Podujatia,SVKBB
ATTACH;FMTTYPE=image/jpeg:https://svkbb.eu/wp-content/uploads/2026/04/pozvanka_-Pavol-HRUZ-scaled.jpg
END:VEVENT
END:VCALENDAR