BEGIN:VCALENDAR
VERSION:2.0
PRODID:-//SVKBB - ECPv6.15.20//NONSGML v1.0//EN
CALSCALE:GREGORIAN
METHOD:PUBLISH
X-ORIGINAL-URL:https://svkbb.eu
X-WR-CALDESC:Udalosti pre SVKBB
REFRESH-INTERVAL;VALUE=DURATION:PT1H
X-Robots-Tag:noindex
X-PUBLISHED-TTL:PT1H
BEGIN:VTIMEZONE
TZID:Europe/Bratislava
BEGIN:DAYLIGHT
TZOFFSETFROM:+0100
TZOFFSETTO:+0200
TZNAME:CEST
DTSTART:20250330T010000
END:DAYLIGHT
BEGIN:STANDARD
TZOFFSETFROM:+0200
TZOFFSETTO:+0100
TZNAME:CET
DTSTART:20251026T010000
END:STANDARD
BEGIN:DAYLIGHT
TZOFFSETFROM:+0100
TZOFFSETTO:+0200
TZNAME:CEST
DTSTART:20260329T010000
END:DAYLIGHT
BEGIN:STANDARD
TZOFFSETFROM:+0200
TZOFFSETTO:+0100
TZNAME:CET
DTSTART:20261025T010000
END:STANDARD
BEGIN:DAYLIGHT
TZOFFSETFROM:+0100
TZOFFSETTO:+0200
TZNAME:CEST
DTSTART:20270328T010000
END:DAYLIGHT
BEGIN:STANDARD
TZOFFSETFROM:+0200
TZOFFSETTO:+0100
TZNAME:CET
DTSTART:20271031T010000
END:STANDARD
END:VTIMEZONE
BEGIN:VEVENT
DTSTART;TZID=Europe/Bratislava:20260317T170000
DTEND;TZID=Europe/Bratislava:20260515T000000
DTSTAMP:20260421T110004
CREATED:20260312T101316Z
LAST-MODIFIED:20260420T110941Z
UID:34063-1773766800-1778803200@svkbb.eu
SUMMARY:Výstava Viac ako 100 rokov od vzniku surrealizmu: Mexiko\, epicentrum avantgardy
DESCRIPTION:Srdečne Vás všetkých pozývame na vernisáž multimediálnej výstavy s názvom „Viac ako 100 rokov od vzniku surrealizmu: Mexiko\, epicentrum avantgardy“\, ktorá sa uskutoční v utorok dňa 17. 3. 2026 o 17.00 h v Galérii v podkroví (2.poschodie Štátnej vedeckej knižnice v Banskej Bystrici).\nVýstava obsahuje digitálne aplikácie vytvorené študentmi umenia a technológie v dialógu s ikonickými dielami surrealistických maliarov\, ktorí v Mexiku našli útočisko a inšpiráciu. Sú to študenti umenia a dizajnu Technologického inštitútu vyššieho vzdelávania v Monterrey\, Campus Santa Fe\, v Mexiku. Výstava sa k nám dostala vďaka spolupráci s Veľvyslanectvom Mexika v Rakúsku a nájdete ju v našich priestoroch až do 15. 5. 2026.\nVernisáž bude moderovaná v slovenskom aj v španielskom jazyku.
URL:https://svkbb.eu/podujatia/vystava-viac-ako-100-rokov-od-vzniku-surrealizmu-mexiko-epicentrum-avantgardy/
LOCATION:Galéria v podkroví
CATEGORIES:Podujatia,SVKBB,Výstavy
ATTACH;FMTTYPE=image/png:https://svkbb.eu/wp-content/uploads/2026/03/pozvanka-na-vernisaz-mexickej-vystavy.png
END:VEVENT
BEGIN:VEVENT
DTSTART;TZID=Europe/Bratislava:20260325T163000
DTEND;TZID=Europe/Bratislava:20260325T180000
DTSTAMP:20260421T110004
CREATED:20260213T134046Z
LAST-MODIFIED:20260305T080523Z
UID:33842-1774456200-1774461600@svkbb.eu
SUMMARY:OD NÁPADU K ČITATEĽOVI
DESCRIPTION:Štátna vedecká knižnica v Banskej Bystrici \nLiterárne a hudobné múzeum \nvás pozýva na podujatie \nOD NÁPADU K ČITATEĽOVI\nLiterárny večer vydavateľstva SIGNIS \nHostia: \nEVA ČULENOVÁ – riaditeľka vydavateľstva \nMARTIN KUBUŠ – prekladateľ a spisovateľ \nKedy: 25. marca 2026 o 16. 30 h \nKde: expozícia Múzeum – domov múz \nLazovná 9 \nBanská Bystrica
URL:https://svkbb.eu/podujatia/od-napadu-k-citatelovi/
LOCATION:Domov múz
CATEGORIES:Home,LHM,Podujatia,SVKBB
ATTACH;FMTTYPE=image/jpeg:https://svkbb.eu/wp-content/uploads/2026/02/5_pozvanka_prezetacia-vydavatelstav-SIGNIS-scaled.jpg
END:VEVENT
BEGIN:VEVENT
DTSTART;VALUE=DATE:20260401
DTEND;VALUE=DATE:20260501
DTSTAMP:20260421T110004
CREATED:20260329T223035Z
LAST-MODIFIED:20260326T093744Z
UID:34110-1775001600-1777593599@svkbb.eu
SUMMARY:PROGRAM ŠVK BB APRÍL 2026
DESCRIPTION:
URL:https://svkbb.eu/podujatia/program-svk-bb-april-2026/
CATEGORIES:Home,Podujatia,SVKBB
ATTACH;FMTTYPE=image/jpeg:https://svkbb.eu/wp-content/uploads/2021/04/plagat_april.jpg
END:VEVENT
BEGIN:VEVENT
DTSTART;TZID=Europe/Bratislava:20260413T100000
DTEND;TZID=Europe/Bratislava:20260413T120000
DTSTAMP:20260421T110004
CREATED:20260407T070811Z
LAST-MODIFIED:20260407T072329Z
UID:34142-1776074400-1776081600@svkbb.eu
SUMMARY:Verejný odpočet plnenia úloh za rok 2025
DESCRIPTION:ŠTÁTNA VEDECKÁ KNIŽNICA V BANSKEJ BYSTRICI\npozýva na\nVerejný odpočet plnenia úloh\nza rok 2025\n13. apríl 2026 o 10.00 h\nMalá sála\, Lazovná 9\, Banská Bystrica \npozvánka Verejný odpočet plnenia úloh za rok 2025 pdf na stiahnutie(pdf\, 355kB)\n 
URL:https://svkbb.eu/podujatia/verejny-odpocet-plnenia-uloh-za-rok-2025/
LOCATION:Malá sála
CATEGORIES:Home,Podujatia,SVKBB
ATTACH;FMTTYPE=image/png:https://svkbb.eu/wp-content/uploads/2026/04/odpocet_ilustracny.png
END:VEVENT
BEGIN:VEVENT
DTSTART;TZID=Europe/Bratislava:20260415T170000
DTEND;TZID=Europe/Bratislava:20260415T183000
DTSTAMP:20260421T110004
CREATED:20260325T061338Z
LAST-MODIFIED:20260325T061338Z
UID:34104-1776272400-1776277800@svkbb.eu
SUMMARY:Konverzačný klub v čínskom jazyku
DESCRIPTION:Učíte sa po čínsky\, ale nemáte si s kým trénovať konverzáciu? Pridajte sa k nám!\n\nSpolu s partnermi z Konfuciovho inštitútu pre obchod pri UMB sme pre Vás založili konverzačný klub!\n\nBudeme sa stretávať raz mesačne a vždy rozprúdime debatu na inú tému. Na začiatku stretnutia si predstavíme slovíčka a potrebné gramatické základy a potom už len konverzujeme. V našom centre Window of Shanghai Vám poskytneme taktiež slovníky\, ktoré budete môcť počas hodiny používať.\n\nMyslíte si\, že Vaša čínština je slabá? Nemusíte sa báť\, stačia Vám len základy a chuť do učenia. Kolegovia z Konfuciovho inštitútu Vám s radosťou pomôžu\, ak Vám nejaké slovíčko vypadne.\n\nPríďte sa pozrieť na prvé stretnutie – vidíme sa v stredu 15. 4. o 17.00 h v centre Window of Shanghai v budove Štátnej vedeckej knižnice v Banskej Bystrici.\nStretnutie klubu sa koná 1x do mesiaca a bude vždy vopred oznámené e-mailom. Stačí sa raz prihlásiť. Váš e-mail potom zaradíme na zoznam členov klubu a vždy Vám príde e-mail o ďalšom stretnutí.\n\nNevadí\, ak sa nezúčastníte jedného stretnutia\, nakoľko sa na seba nenadväzujú a každý raz budeme konverzovať na inú tému. Prosím\, nahláste svoju účasť na nasledujúcom kontakte – e-mail: cinskecentrum@svkbb.eu alebo tel.č.: +421 48 4710777 (telefonicky len počas otváracích hodín centra).\nZa účasti na konverzačnom klube sa neplatí\, ale podmienkou je mať platné členstvo v našej Štátnej vedeckej knižnici v B. Bystrici. Vďaka preukazu si budete môcť vypožičať aj čínske knižky a pokračovať v štúdiu aj doma.\n\nNa prvé stretnutie nie je potrebné mať platný čitateľský preukaz.\n\nTešíme sa na Vás!
URL:https://svkbb.eu/podujatia/konverzacny-klub-v-cinskom-jazyku/
LOCATION:I. poschodie
CATEGORIES:Home,Podujatia,SVKBB
ATTACH;FMTTYPE=image/jpeg:https://svkbb.eu/wp-content/uploads/2026/03/Plagat-SJ-verzia.jpg
END:VEVENT
BEGIN:VEVENT
DTSTART;TZID=Europe/Bratislava:20260421T150000
DTEND;TZID=Europe/Bratislava:20260530T000000
DTSTAMP:20260421T110004
CREATED:20260420T110859Z
LAST-MODIFIED:20260420T110859Z
UID:34199-1776783600-1780099200@svkbb.eu
SUMMARY:Najkrajší kalendár Slovenska 2026 a Najkrajšia kniha a propagačný materiál o Slovensku 2025
DESCRIPTION:Štátna vedecká knižnica v Banskej Bystrici v spolupráci s Klubom fotopublicistov Slovenského syndikátu novinárov srdečne pozýva verejnosť na vernisáž výstavy súťažných kolekcií Najkrajší kalendár Slovenska 2026 a Najkrajšia kniha a propagačný materiál o Slovensku 2025. Slávnostné otvorenie výstavy a vyhlásenie výsledkov súťaže sa uskutoční v utorok 21. apríla 2026 o 15.00 h. v priestoroch Štátnej vedeckej knižnice na Lazovnej ulici v Banskej Bystrici. Výstava potrvá do 30. mája 2025. \nŠtátna vedecká knižnica v Banskej Bystrici je príspevkovou organizáciou Ministerstva kultúry Slovenskej republiky. \nVernisáž a výstavu mediálne podporili: News\, Rozhlas a televízia Slovenska\, BBonline.sk\, Rádio Regina\, Bystricoviny.sk\, BBFM rádio a InfoLib.
URL:https://svkbb.eu/podujatia/najkrajsi-kalendar-slovenska-2026-a-najkrajsia-kniha-a-propagacny-material-o-slovensku-2025/
LOCATION:Átrium
CATEGORIES:Home,Podujatia,SVKBB,Výstavy
ATTACH;FMTTYPE=image/jpeg:https://svkbb.eu/wp-content/uploads/2026/04/pozvanka-2.jpg
END:VEVENT
BEGIN:VEVENT
DTSTART;TZID=Europe/Bratislava:20260428T160000
DTEND;TZID=Europe/Bratislava:20260428T173000
DTSTAMP:20260421T110004
CREATED:20260325T120504Z
LAST-MODIFIED:20260325T120504Z
UID:34107-1777392000-1777397400@svkbb.eu
SUMMARY:TAJOMSTVÁ BOTTOVHO DOMU
DESCRIPTION:Štátna vedecká knižnica v Banskej Bystrici – Literárne a hudobné múzeum \nvás pozývajú na podujatie \nTAJOMSTVÁ BOTTOVHO DOMU\nPodujatie sa koná pri príležitosti 145. výročia úmrtia štúrovského básnika Jána Bottu. \nKedy: 28. apríla 2026 o 16. 00 h \nKde: expozícia Múzeum – domov múz \nLazovná 9\, Banská Bystrica \nPROGRAM: \nPrednáška Mgr. Jozefa Ďuriančika \nO 17.15 h sa koná pietna spomienka na Evanjelickom cintoríne pri hrobe básnika.
URL:https://svkbb.eu/podujatia/tajomstva-bottovho-domu/
LOCATION:Domov múz
CATEGORIES:Home,LHM,Podujatia,SVKBB
ATTACH;FMTTYPE=image/jpeg:https://svkbb.eu/wp-content/uploads/2026/03/pozvanka_Tajomstva-Bottovho-domu2-scaled.jpg
END:VEVENT
BEGIN:VEVENT
DTSTART;TZID=Europe/Bratislava:20260429T170000
DTEND;TZID=Europe/Bratislava:20260429T183000
DTSTAMP:20260421T110004
CREATED:20260421T050243Z
LAST-MODIFIED:20260421T050243Z
UID:34214-1777482000-1777487400@svkbb.eu
SUMMARY:Jar v šálke – ochutnávka čínskych čajov
DESCRIPTION:Centrum Window of Shanghai v Štátnej vedeckej knižnici v Banskej Bystrici a Konfuciov inštitút pre obchod pri Univerzite Mateja Bela v Banskej Bystrici Vás srdečne pozývajú na podujatie s názvom:\nJar v šálke – ochutnávka čínskych čajov\nPríďte ochutnať čaje typické pre jarné obdobie v Číne a dozvedieť sa viac o ich príprave\, čajových rituáloch i bohatej histórii.\nPrednáška sa bude konať dňa 29. 4. 2026\, o 17.00 h\, v spoločenskej sále v Štátnej vedeckej knižnici v Banskej Bystrici. (1. poschodie)\nViac informácií nájdete na priloženom plagáte.\nTešíme sa na Vás.
URL:https://svkbb.eu/podujatia/jar-v-salke-ochutnavka-cinskych-cajov/
LOCATION:Spoločenská sála
CATEGORIES:Home,Podujatia,SVKBB
ATTACH;FMTTYPE=image/jpeg:https://svkbb.eu/wp-content/uploads/2026/04/jar-v-salke_page-0001-scaled.jpg
END:VEVENT
BEGIN:VEVENT
DTSTART;TZID=Europe/Bratislava:20260511T140000
DTEND;TZID=Europe/Bratislava:20260511T153000
DTSTAMP:20260421T110004
CREATED:20260420T110504Z
LAST-MODIFIED:20260420T110504Z
UID:34210-1778508000-1778513400@svkbb.eu
SUMMARY:"KTO ZA PRAVDU HORÍ" - OSOBNOSŤ KAROLA KUZMÁNYHO
DESCRIPTION:Štátna vedecká knižnica v Banskej Bystrici \n– Literárne a hudobné múzeum vás pozývajú na prednášku \n„KTO ZA PRAVDU HORÍ“ – OSOBNOSŤ KAROLA KUZMÁNYHO \nHosť: PhDr. RNDr. Richard R. Senček\, PhD. \nKedy:11. mája 2026 o 14.00 h \nKde: priestory expozície Múzeum – domov múz \nLazovná 9 \nBanská Bystrica
URL:https://svkbb.eu/podujatia/kto-za-pravdu-hori-osobnost-karola-kuzmanyho/
LOCATION:Domov múz
CATEGORIES:Home,LHM,Podujatia,SVKBB
ATTACH;FMTTYPE=image/jpeg:https://svkbb.eu/wp-content/uploads/2026/04/pozvanka-Karol-Kuzmany-scaled.jpg
END:VEVENT
BEGIN:VEVENT
DTSTART;TZID=Europe/Bratislava:20260515T090000
DTEND;TZID=Europe/Bratislava:20260515T160000
DTSTAMP:20260421T110004
CREATED:20260213T113844Z
LAST-MODIFIED:20260309T101334Z
UID:33824-1778835600-1778860800@svkbb.eu
SUMMARY:Galéria talentov 2026
DESCRIPTION:Štátna vedecká knižnica v Banskej Bystrici – Literárne a hudobné múzeum \nZŠ s MŠ Jána Bakossa v Banskej Bystrici \nvyhlasujú 15. ročník celoslovenskej súťaže s udeľovaním \nCeny Jána Bakossa \nGALÉRIA TALENTOV\nliterárna\, výtvarná\, fotografická\, hudobná a spevácka súťaž \npre žiakov \nzákladných škôl a osemročných gymnázií \nTémy súťaže \nVlastná výtvarná tvorba: „Keby mali farby hlas“ \nFotografia: „Čaro obyčajných vecí“ \nHudobný nástroj: jedna skladba \nSpevácka súťaž: jedna populárna pieseň \nVyhodnotenie súťaže \n15. mája 2026 od 9.00 – 14.00 h\nŠtátna vedecká knižnica v Banskej Bystrici \nLazovná 9 \nSpoločenská sála \nDokumenty potrebné na prihlásenie do súťaže: \nGT 2026 SÚHLAS SPRACÚVANÍM OSOBNÝCH ÚDAJOV\nGT 2026 PROPOZÍCIE SÚŤAŽE\nGT 2026 PRIHLÁŠKA DO SÚŤAŽE
URL:https://svkbb.eu/podujatia/galeria-talentov-2026/
LOCATION:Spoločenská sála
CATEGORIES:Home,LHM,Podujatia,SVKBB
ATTACH;FMTTYPE=image/jpeg:https://svkbb.eu/wp-content/uploads/2026/02/ponukovy-list_Galeria-talentov-scaled.jpg
END:VEVENT
BEGIN:VEVENT
DTSTART;VALUE=DATE:20260608
DTEND;VALUE=DATE:20260905
DTSTAMP:20260421T110004
CREATED:20260420T105737Z
LAST-MODIFIED:20260420T110210Z
UID:34202-1780876800-1788566399@svkbb.eu
SUMMARY:Pavel Hrúz - výstava zo zbierkového fondu pri príležitosti nedožitých 85. narodenín spisovateľa
DESCRIPTION:Štátna vedecká knižnica v Banskej Bystrici \nLiterárne a hudobné múzeum vás pozýva \nna výstavu zo zbierkového fondu pri príležitosti nedožitých 85. narodenín spisovateľa \nPavla Hrúza. \nPavel Hrúz (*14. 7. 1941 + 15. 8. 2008) \nKde: chodba\, 2. poschodie Štátna vedecká knižnica v Banskej Bystrici\, Lazovná 9 \nKedy: 8. 6. – 4. 9. 2026 \nTešíme sa na vašu návštevu!
URL:https://svkbb.eu/podujatia/pavel-hruz-vystava-zo-zbierkoveho-fondu-pri-prilezitosti-nedozitych-85-narodenin-spisovatela/
LOCATION:II. poschodie
CATEGORIES:LHM,SVKBB,Výstavy
ATTACH;FMTTYPE=image/jpeg:https://svkbb.eu/wp-content/uploads/2026/04/vystava_-Pavel-Hruz-scaled.jpg
END:VEVENT
BEGIN:VEVENT
DTSTART;TZID=Europe/Bratislava:20260609T160000
DTEND;TZID=Europe/Bratislava:20260609T173000
DTSTAMP:20260421T110004
CREATED:20260420T110045Z
LAST-MODIFIED:20260420T110102Z
UID:34205-1781020800-1781026200@svkbb.eu
SUMMARY:Historky Banskej Bystrice očami Pavla HRÚZA
DESCRIPTION:Štátna vedecká knižnica v Banskej Bystrici \n– Literárne a hudobné múzeum vás pozývajú na \nHistorky Banskej Bystrice očami Pavla HRÚZA \nSpomienkové podujatie sa uskutoční pri príležitosti nedožitých 85. narodenín spisovateľa. \nHosť: PeadDr. Jana Borguľová \nKedy: 9. júna 2026 o 16.00 h \nKde: priestory expozície Múzeum – domov múz \nLazovná 9 \nBanská Bystrica
URL:https://svkbb.eu/podujatia/34205/
LOCATION:Domov múz
CATEGORIES:Home,LHM,Podujatia,SVKBB
ATTACH;FMTTYPE=image/jpeg:https://svkbb.eu/wp-content/uploads/2026/04/pozvanka_-Pavol-HRUZ-scaled.jpg
END:VEVENT
END:VCALENDAR